BEGIN:VCALENDAR
VERSION:2.0
PRODID:-//AKUT - ECPv6.15.20//NONSGML v1.0//EN
CALSCALE:GREGORIAN
METHOD:PUBLISH
X-WR-CALNAME:AKUT
X-ORIGINAL-URL:https://akut.lu
X-WR-CALDESC:Veranstaltungen für AKUT
REFRESH-INTERVAL;VALUE=DURATION:PT1H
X-Robots-Tag:noindex
X-PUBLISHED-TTL:PT1H
BEGIN:VTIMEZONE
TZID:Europe/Luxembourg
BEGIN:DAYLIGHT
TZOFFSETFROM:+0100
TZOFFSETTO:+0200
TZNAME:CEST
DTSTART:20180325T010000
END:DAYLIGHT
BEGIN:STANDARD
TZOFFSETFROM:+0200
TZOFFSETTO:+0100
TZNAME:CET
DTSTART:20181028T010000
END:STANDARD
BEGIN:DAYLIGHT
TZOFFSETFROM:+0100
TZOFFSETTO:+0200
TZNAME:CEST
DTSTART:20190331T010000
END:DAYLIGHT
BEGIN:STANDARD
TZOFFSETFROM:+0200
TZOFFSETTO:+0100
TZNAME:CET
DTSTART:20191027T010000
END:STANDARD
BEGIN:DAYLIGHT
TZOFFSETFROM:+0100
TZOFFSETTO:+0200
TZNAME:CEST
DTSTART:20200329T010000
END:DAYLIGHT
BEGIN:STANDARD
TZOFFSETFROM:+0200
TZOFFSETTO:+0100
TZNAME:CET
DTSTART:20201025T010000
END:STANDARD
END:VTIMEZONE
BEGIN:VEVENT
DTSTART;TZID=Europe/Luxembourg:20190613T100000
DTEND;TZID=Europe/Luxembourg:20190613T170000
DTSTAMP:20260424T205525
CREATED:20190520T180459Z
LAST-MODIFIED:20190520T182300Z
UID:471-1560420000-1560445200@akut.lu
SUMMARY:Porte ouverte - Tag der offenen Tür
DESCRIPTION:13 JUIN DE 10.00 A 17.00 \nLe 13 juin 2019\, Akut Asbl ensemble avec toutes les associations qui ont leurs bureaux au 1b rue Thomas Edison\, ainsi que les associations membre de l‘AGORA de la Patiente Vertriedung Asbl vous invitent à la Porte Ouverte dans les nouveaux locaux au: \n\n1b rue Thomas Edison  –  L-1445 Strassen (4ème étage) \nNous vous accueillons de 10 heures du matin à 17 heures de l’après-midi. Des stands d’information sont organisés par les différentes associations.
URL:https://akut.lu/veranstaltung/porte-ouverte-tag-der-offenen-tuer/
LOCATION:AKUT\, 1b\, rue Thomas Edison\, Strassen\, 1445\, Luxemburg
CATEGORIES:Tag der offenen Tür
END:VEVENT
END:VCALENDAR