BEGIN:VCALENDAR
VERSION:2.0
PRODID:-//AKUT - ECPv6.15.20//NONSGML v1.0//EN
CALSCALE:GREGORIAN
METHOD:PUBLISH
X-WR-CALNAME:AKUT
X-ORIGINAL-URL:https://akut.lu
X-WR-CALDESC:Veranstaltungen für AKUT
REFRESH-INTERVAL;VALUE=DURATION:PT1H
X-Robots-Tag:noindex
X-PUBLISHED-TTL:PT1H
BEGIN:VTIMEZONE
TZID:Europe/Luxembourg
BEGIN:DAYLIGHT
TZOFFSETFROM:+0100
TZOFFSETTO:+0200
TZNAME:CEST
DTSTART:20180325T010000
END:DAYLIGHT
BEGIN:STANDARD
TZOFFSETFROM:+0200
TZOFFSETTO:+0100
TZNAME:CET
DTSTART:20181028T010000
END:STANDARD
BEGIN:DAYLIGHT
TZOFFSETFROM:+0100
TZOFFSETTO:+0200
TZNAME:CEST
DTSTART:20190331T010000
END:DAYLIGHT
BEGIN:STANDARD
TZOFFSETFROM:+0200
TZOFFSETTO:+0100
TZNAME:CET
DTSTART:20191027T010000
END:STANDARD
BEGIN:DAYLIGHT
TZOFFSETFROM:+0100
TZOFFSETTO:+0200
TZNAME:CEST
DTSTART:20200329T010000
END:DAYLIGHT
BEGIN:STANDARD
TZOFFSETFROM:+0200
TZOFFSETTO:+0100
TZNAME:CET
DTSTART:20201025T010000
END:STANDARD
END:VTIMEZONE
BEGIN:VEVENT
DTSTART;TZID=Europe/Luxembourg:20190425T193000
DTEND;TZID=Europe/Luxembourg:20190425T193000
DTSTAMP:20260424T211300
CREATED:20190408T143947Z
LAST-MODIFIED:20250130T164244Z
UID:429-1556220600-1556220600@akut.lu
SUMMARY:Perturbateurs endocriniens\, substances à effets hormonaux: quels risques pour la santé ?
DESCRIPTION:Les Perturbateurs endocriniens sont des substances chimiques qui perturbent le fonctionnement des hormones surtout pendant la grossesse. Ils sont impliqués dans les  maladies graves chroniques: cancer du sein et de la prostate\, obésité\, diabète\, infertilité\, troubles du comportement\, asthme … \nDe telles substances sont typiquement présentes dans certains produits cosmétiques\, alimentaires (sous forme d’insecticides ou de pesticides)\, matériaux de construction et meubles (phtalates\, biocides\, retardateurs de flamme) ou dans des produits usagers (imprimantes\, équipements\, électroniques\, jouets\, produits de nettoyage\, …). De même\, certains métaux lourds (toner d’imprimantes\, amalgames dentaires\, …) sont des perturbateurs endrocriniens. \nLa particularité des perturbateurs endocriniens est qu’il suffit de très faibles doses pour induire des effets de santé à long terme\, notamment pour les foetus\, les nouveaux-nés et bébés ainsi que pour les adolescents en puberté. \nAndré Cicolella est chimiste toxicologue et président du Réseau Environnement Santé qui est à l’origine de l’interdiction des biberons au bisphénol en Europe et de la Stratégie Nationale Perturbateurs Endocriniens en France. \nLa conférence se tiendra en français
URL:https://akut.lu/veranstaltung/perturbateurs-endocriniens-substances-a-effets-hormonaux-quels-risques-pour-la-sante/
LOCATION:Hall Victor Hugo\, Limpertsberg\, Luxemburg\, 1750\, Luxemburg
CATEGORIES:2022 und älter,Konferenz
END:VEVENT
END:VCALENDAR