BEGIN:VCALENDAR
VERSION:2.0
PRODID:-// - ECPv4.9.13//NONSGML v1.0//EN
CALSCALE:GREGORIAN
METHOD:PUBLISH
X-ORIGINAL-URL:http://akut.lu
X-WR-CALDESC:Veranstaltungen im 
BEGIN:VTIMEZONE
TZID:Europe/Luxembourg
BEGIN:DAYLIGHT
TZOFFSETFROM:+0100
TZOFFSETTO:+0200
TZNAME:CEST
DTSTART:20190331T010000
END:DAYLIGHT
BEGIN:STANDARD
TZOFFSETFROM:+0200
TZOFFSETTO:+0100
TZNAME:CET
DTSTART:20191027T010000
END:STANDARD
END:VTIMEZONE
BEGIN:VEVENT
DTSTART;TZID=Europe/Luxembourg:20190423T190000
DTEND;TZID=Europe/Luxembourg:20190423T190000
DTSTAMP:20200122T060355
CREATED:20190410T180406Z
LAST-MODIFIED:20190410T195635Z
UID:419-1556046000-1556046000@akut.lu
SUMMARY:MCS Betroffene - erstes Treffen
DESCRIPTION:Leben Sie mit Multipler Chemischer Sensibilität (MCS)?\nKennen Sie zunächst unerklärliche Reaktionen des Körpers auf zum Beispiel Duftstoffe oder Rauch? Sie können sofort sagen\, dass ein Raum Ihnen nicht gut tut? \nWir möchten Sie einladen am ersten Treffen von MCS Betroffenen in Luxembourg teilzunehmen.\nGern möchten wir damit die Gelegenheit geben Erfahrungen unter Leidensgenossen austauschen zu können. Die körperlichen Reaktion sind oft begleitet von sozialer Isolation und weiteren Problemen\, wie Wohnungssuche\, Arbeitsplatz\, Bildungseinrichtungen\, Teilnahme am öffentlichen Leben\, da die Reaktion auslösenden Stoffe fast überall vorhanden sind. \nGanz alltägliche Dinge sind plötzlich nicht mehr schnell zu erledigen. Man beschäftigt sich mit Lesen von Kleingedrucktem\, fragt sich welche Kosmetika\, Waschmittel\, Kleidung oder Nahrung noch vom Körper vertragen werden. \nSomit handelt es sich um eine sehr individuelle Problematik\, so dass die gegenseitige Hilfe zur Selbsthilfe eine Möglichkeit bietet den eigenen Weg zu finden mit der Sensibilität besser zu leben. \n  \n
URL:http://akut.lu/veranstaltung/mcs-betroffene-erstes-treffen/
LOCATION:AKUT\, 1b\, rue Thomas Edison\, Strassen\, 1445\, Luxemburg
CATEGORIES:Konferenz
END:VEVENT
END:VCALENDAR