BEGIN:VCALENDAR
VERSION:2.0
PRODID:-//AKUT - ECPv6.15.20//NONSGML v1.0//EN
CALSCALE:GREGORIAN
METHOD:PUBLISH
X-WR-CALNAME:AKUT
X-ORIGINAL-URL:https://akut.lu
X-WR-CALDESC:Veranstaltungen für AKUT
REFRESH-INTERVAL;VALUE=DURATION:PT1H
X-Robots-Tag:noindex
X-PUBLISHED-TTL:PT1H
BEGIN:VTIMEZONE
TZID:Europe/Luxembourg
BEGIN:DAYLIGHT
TZOFFSETFROM:+0100
TZOFFSETTO:+0200
TZNAME:CEST
DTSTART:20170326T010000
END:DAYLIGHT
BEGIN:STANDARD
TZOFFSETFROM:+0200
TZOFFSETTO:+0100
TZNAME:CET
DTSTART:20171029T010000
END:STANDARD
BEGIN:DAYLIGHT
TZOFFSETFROM:+0100
TZOFFSETTO:+0200
TZNAME:CEST
DTSTART:20180325T010000
END:DAYLIGHT
BEGIN:STANDARD
TZOFFSETFROM:+0200
TZOFFSETTO:+0100
TZNAME:CET
DTSTART:20181028T010000
END:STANDARD
BEGIN:DAYLIGHT
TZOFFSETFROM:+0100
TZOFFSETTO:+0200
TZNAME:CEST
DTSTART:20190331T010000
END:DAYLIGHT
BEGIN:STANDARD
TZOFFSETFROM:+0200
TZOFFSETTO:+0100
TZNAME:CET
DTSTART:20191027T010000
END:STANDARD
END:VTIMEZONE
BEGIN:VEVENT
DTSTART;TZID=Europe/Luxembourg:20180705T200000
DTEND;TZID=Europe/Luxembourg:20180705T220000
DTSTAMP:20260424T211301
CREATED:20180901T191306Z
LAST-MODIFIED:20180901T191306Z
UID:250-1530820800-1530828000@akut.lu
SUMMARY:Gesund ohne Aluminium und Schwermetalle
DESCRIPTION:Ein Vortrag von Jean Huss (L) \nweitere Informationen finden Sie hier als PDF Informationen Vortrag 5.7.18 \nLiteratur: LITERATUR ZU SCHWERMETALLEN UND ALUMINIUM
URL:https://akut.lu/veranstaltung/gesund-ohne-aluminium-und-schwermetalle/
CATEGORIES:Vortrag
ATTACH;FMTTYPE=image/png:https://akut.lu/wp-content/uploads/2018/06/Vortrag-5.7.18.png
END:VEVENT
END:VCALENDAR