BEGIN:VCALENDAR
VERSION:2.0
PRODID:-//AKUT - ECPv6.15.20//NONSGML v1.0//EN
CALSCALE:GREGORIAN
METHOD:PUBLISH
X-WR-CALNAME:AKUT
X-ORIGINAL-URL:https://akut.lu
X-WR-CALDESC:Veranstaltungen für AKUT
REFRESH-INTERVAL;VALUE=DURATION:PT1H
X-Robots-Tag:noindex
X-PUBLISHED-TTL:PT1H
BEGIN:VTIMEZONE
TZID:Europe/Luxembourg
BEGIN:DAYLIGHT
TZOFFSETFROM:+0100
TZOFFSETTO:+0200
TZNAME:CEST
DTSTART:20170326T010000
END:DAYLIGHT
BEGIN:STANDARD
TZOFFSETFROM:+0200
TZOFFSETTO:+0100
TZNAME:CET
DTSTART:20171029T010000
END:STANDARD
BEGIN:DAYLIGHT
TZOFFSETFROM:+0100
TZOFFSETTO:+0200
TZNAME:CEST
DTSTART:20180325T010000
END:DAYLIGHT
BEGIN:STANDARD
TZOFFSETFROM:+0200
TZOFFSETTO:+0100
TZNAME:CET
DTSTART:20181028T010000
END:STANDARD
BEGIN:DAYLIGHT
TZOFFSETFROM:+0100
TZOFFSETTO:+0200
TZNAME:CEST
DTSTART:20190331T010000
END:DAYLIGHT
BEGIN:STANDARD
TZOFFSETFROM:+0200
TZOFFSETTO:+0100
TZNAME:CET
DTSTART:20191027T010000
END:STANDARD
END:VTIMEZONE
BEGIN:VEVENT
DTSTART;VALUE=DATE:20181020
DTEND;VALUE=DATE:20181022
DTSTAMP:20260424T210635
CREATED:20180930T111728Z
LAST-MODIFIED:20180930T113249Z
UID:297-1539993600-1540166399@akut.lu
SUMMARY:Foire Bio de la Cussignière 2018
DESCRIPTION:DIMANCHE 21 OCTOBRE\n…\n– 16h30 à 17h30 : Les peturbateurs endocriniens rendent-ils bêtes nos enfants? par Jean Huss\, Président de l’AKUT\, vice-Président de l’Académie européenne de mé- decine environnementale\, Administrateur de l’ARTAC\, ancien Parlementaire européen.
URL:https://akut.lu/veranstaltung/foire-bio-de-la-cussigniere-2018/
LOCATION:Gorcy
CATEGORIES:Vortrag
END:VEVENT
END:VCALENDAR