BEGIN:VCALENDAR
VERSION:2.0
PRODID:-// - ECPv4.9.13//NONSGML v1.0//EN
CALSCALE:GREGORIAN
METHOD:PUBLISH
X-ORIGINAL-URL:http://akut.lu
X-WR-CALDESC:Veranstaltungen im 
BEGIN:VTIMEZONE
TZID:Europe/Luxembourg
BEGIN:DAYLIGHT
TZOFFSETFROM:+0100
TZOFFSETTO:+0200
TZNAME:CEST
DTSTART:20190331T010000
END:DAYLIGHT
BEGIN:STANDARD
TZOFFSETFROM:+0200
TZOFFSETTO:+0100
TZNAME:CET
DTSTART:20191027T010000
END:STANDARD
END:VTIMEZONE
BEGIN:VEVENT
DTSTART;TZID=Europe/Luxembourg:20191212T193000
DTEND;TZID=Europe/Luxembourg:20191212T210000
DTSTAMP:20200122T060041
CREATED:20191030T200220Z
LAST-MODIFIED:20191030T201937Z
UID:493-1576179000-1576184400@akut.lu
SUMMARY:Brustkrebs
DESCRIPTION:Bessere Ergebnisse durch ganzheitliche Behandlung auch unter Berücksichtigung von Umweltfaktoren und toxischen Belastungen.\nAnmeldung erforderlich:\nTelefon: 491457-1\nEmail: events@patientevertriedung.lu \nVortrag:\nDr. med. Achim Schuppert ist niedergelassener Facharzt für Allgemeinmedizin und Naturheilverfahren. Er arbeitet im Ärztezentrum für Ganzheitliche Medizin in Bonn und ist Vorstandsmitglied der Deutschen Gesellschaft für Onkologie. \nVortragssprache: Deutsch\nSimultanübersetzung: Französisch \n  \n
URL:http://akut.lu/veranstaltung/brustkrebs/
LOCATION:Légère Hotel\, 11\, rue Gabriel Lippmann\, Munsbach\, 5365
CATEGORIES:Vortrag
ATTACH;FMTTYPE=image/png:http://akut.lu/wp-content/uploads/2019/10/Brustkrebs.png
ORGANIZER;CN="Patientebertriedung":MAILTO:events@patientevertriedung.lu
END:VEVENT
END:VCALENDAR