BEGIN:VCALENDAR
VERSION:2.0
PRODID:-// - ECPv4.9.2//NONSGML v1.0//EN
CALSCALE:GREGORIAN
METHOD:PUBLISH
X-ORIGINAL-URL:http://akut.lu
X-WR-CALDESC:Veranstaltungen im 
BEGIN:VEVENT
DTSTART;VALUE=DATE:20180921
DTEND;VALUE=DATE:20180924
DTSTAMP:20190821T231838
CREATED:20180901T191923Z
LAST-MODIFIED:20180902T093731Z
UID:253-1537488000-1537747199@akut.lu
SUMMARY:Verwundbare Schwangerschaft - verwundbare Kindheit
DESCRIPTION:Weitere Informationen zur Tagung finden Sie in folgender PDF – Datei Tagung_2018_Programm \n
URL:http://akut.lu/veranstaltung/verwundbare-schwangerschaft-verwundbare-kindheit/
LOCATION:European Conventrion Center Luxembourg\, 4\, Place de l´Europe\, Luxembourg\, 1499\, Luxemburg
CATEGORIES:Tagung
ATTACH;FMTTYPE=image/png:http://akut.lu/wp-content/uploads/2018/08/Tagung.png
ORGANIZER;CN="Europ%C3%A4ische%20Akademie%20f%C3%BCr%20Umweltmedizin":MAILTO:office@europaem.eu
END:VEVENT
END:VCALENDAR